BEGIN:VCALENDAR
VERSION:2.0
PRODID:-//NYC Anti-Violence Project - ECPv5.6.0//NONSGML v1.0//EN
CALSCALE:GREGORIAN
METHOD:PUBLISH
X-WR-CALNAME:NYC Anti-Violence Project
X-ORIGINAL-URL:https://avp.org
X-WR-CALDESC:Events for NYC Anti-Violence Project
BEGIN:VTIMEZONE
TZID:America/New_York
BEGIN:DAYLIGHT
TZOFFSETFROM:-0500
TZOFFSETTO:-0400
TZNAME:EDT
DTSTART:20200308T070000
END:DAYLIGHT
BEGIN:STANDARD
TZOFFSETFROM:-0400
TZOFFSETTO:-0500
TZNAME:EST
DTSTART:20201101T060000
END:STANDARD
END:VTIMEZONE
BEGIN:VEVENT
DTSTART;TZID=America/New_York:20200514T140000
DTEND;TZID=America/New_York:20200514T153000
DTSTAMP:20210527T124348
CREATED:20200507T171546Z
LAST-MODIFIED:20200511T222253Z
UID:6160-1589464800-1589470200@avp.org
SUMMARY:Responding To Xenophobia During The Spread Of Coronavirus
DESCRIPTION:Join AVP and the Center for Anti-violence Education for an upstander training in responding to and disrupting hate during the spread of COVID-19. This interactive two hour workshop addresses the ways that xenophobia and scapegoating since the COVID-19 outbreak continue to rise\, most consistently against Asian communities. Workshop participants will look at the dangerous history of xenophobia in the United States against a cross-section of groups\, and the ways that current public narratives and interpersonal acts are making living through the pandemic even scarier and more dangerous for Asian Americans. There will be interactive break-out groups for participants to explore opportunities and strategies to be “Upstanders” during the current moment and help disrupt this wave of anti-Asian bias\, whether in-person or online. \nLearn how to be a more effective ally and how to safely intervene\, de-escalate and disrupt acts of discrimination\, bias\, and harassment. \nFree for all. Email upstander@caeny.org for more information
URL:https://avp.org/event/responding-to-xenophobia-during-the-spread-of-coronavirus/
ATTACH;FMTTYPE=image/png:https://avp.org/wp-content/uploads/2020/05/twitter.png
END:VEVENT
END:VCALENDAR