BEGIN:VCALENDAR
VERSION:2.0
PRODID:-//NYC Anti-Violence Project - ECPv5.9.1//NONSGML v1.0//EN
CALSCALE:GREGORIAN
METHOD:PUBLISH
X-WR-CALNAME:NYC Anti-Violence Project
X-ORIGINAL-URL:https://avp.org
X-WR-CALDESC:Events for NYC Anti-Violence Project
BEGIN:VTIMEZONE
TZID:America/Halifax
BEGIN:DAYLIGHT
TZOFFSETFROM:-0400
TZOFFSETTO:-0300
TZNAME:ADT
DTSTART:20210314T060000
END:DAYLIGHT
BEGIN:STANDARD
TZOFFSETFROM:-0300
TZOFFSETTO:-0400
TZNAME:AST
DTSTART:20211107T050000
END:STANDARD
END:VTIMEZONE
BEGIN:VEVENT
DTSTART;TZID=America/Halifax:20211014T180000
DTEND;TZID=America/Halifax:20211014T220000
DTSTAMP:20210926T133019
CREATED:20210827T124515Z
LAST-MODIFIED:20210915T214546Z
UID:9572-1634234400-1634248800@avp.org
SUMMARY:Courage Awards 2021: Celebrating 40 Years of AVP
DESCRIPTION:Join us Thursday\, October 14th for the 2021 Courage Awards: Celebrating 40 years of AVP. This year there are two ways to attend\, virtually or in-person! \nThe in-person event will kick off at 6PM with a VIP Reception\, followed by a walking dinner and cocktails at Pier 59\, Chelsea Piers. The virtual event will feature a 30 minute exclusive experience\, available just for the viewers at home beginning at 7:30PM EST. All attendees will come together\, in-person and online\, for the presentation of the Courage Awards\, featuring Honoree Senator Thomas K. Duane and more. \nYour gift to Courage supports AVP in the work of lifting up lesbian\, gay\, bisexual\, transgender\, queer\, and HIV-affected communities and allies to end all forms of violence through organizing and education\, and supports survivors through counseling and advocacy. \nTickets for the Courage Awards: Celebrating 40 Years of AVP are on sale below now. \nTo learn about sponsorship opportunities please download our 2021 Partnership Deck by clicking here.  \nPlease note\, all attendees must show proof of vaccination at the in-person event. \n \n\n\n \nThe Courage Awards are hosted by AVP’s 40th Anniversary Committee: \nJoseph Barretto & Michael Marton  \nKeisha Bell  \nStephanie Blackwood  \nTom Duane  \nBrian Friedman  \nArthur Goodman  \nTodd Grasinger  \nBea Hanson  \nJennifer Hatch  \nRichard Haymes  \nMike Hofman \nKito Huggins  \nDonald Kao  \nBen Lee  \nSelenis Leyva  \nRobert Lopez  \nCarri Lyon  \nBruce Pachter  \nRich Palermo  \nClarence Patton  \nThomas Salatte  \nWilliam Schwalbe  \nSharon Stapel & Sara Mathison  \nMatthew Sturiale  \nAnthony Thompson  \nFarra Trompeter  \nChris Tuttle  \nMarquise Vilson  \nDavid Wertheimer & Paul Gode  \nThomas Zuzelo 
URL:https://avp.org/event/courage2021/
LOCATION:Chelsea Piers\, Pier 59\, New York\, NY\, 10011\, United States
CATEGORIES:Fundraising Event
ATTACH;FMTTYPE=image/jpeg:https://avp.org/wp-content/uploads/2021/09/CourageAwards1.jpg
GEO:40.6571179;-73.958105
X-APPLE-STRUCTURED-LOCATION;VALUE=URI;X-ADDRESS=Chelsea Piers Pier 59 New York NY 10011 United States;X-APPLE-RADIUS=500;X-TITLE=Pier 59:geo:-73.958105,40.6571179
END:VEVENT
END:VCALENDAR