BEGIN:VCALENDAR
VERSION:2.0
PRODID:-//NYC Anti-Violence Project - ECPv5.6.0//NONSGML v1.0//EN
CALSCALE:GREGORIAN
METHOD:PUBLISH
X-WR-CALNAME:NYC Anti-Violence Project
X-ORIGINAL-URL:https://avp.org
X-WR-CALDESC:Events for NYC Anti-Violence Project
BEGIN:VTIMEZONE
TZID:America/Halifax
BEGIN:DAYLIGHT
TZOFFSETFROM:-0400
TZOFFSETTO:-0300
TZNAME:ADT
DTSTART:20200308T060000
END:DAYLIGHT
BEGIN:STANDARD
TZOFFSETFROM:-0300
TZOFFSETTO:-0400
TZNAME:AST
DTSTART:20201101T050000
END:STANDARD
END:VTIMEZONE
BEGIN:VEVENT
DTSTART;TZID=America/Halifax:20200930T183000
DTEND;TZID=America/Halifax:20200930T193000
DTSTAMP:20210527T124436
CREATED:20200914T172927Z
LAST-MODIFIED:20200924T000229Z
UID:7504-1601490600-1601494200@avp.org
SUMMARY:Black Leadership in this Moment: A Conversation on Obstacles and Opportunities
DESCRIPTION:With the renewed attention on #BlackLivesMatter in the United States and globally\, many corporations and nonprofits are grappling with how they can and should contribute to the movement for Black lives. There has been a call for individuals and institutions to invest in and support Black leadership\, but what does that mean? \nHow can we be sure to address the needs of Black communities beyond this summer\, promote Black leadership and support the organizations and leaders that are already doing the work? \nJoin our Executive Director\, Beverly Tillery\, and Board Chair Kito Huggins for a conversation moderated by activist and drag queen Peppermint\, on the opportunities and obstacles behind Black leadership in this moment\, and onward. As a Black Executive Director and Board Chair team\, we will reflect on and discuss: \n\n\nWhy Black Leadership Matters \n\n\nCommon Obstacles Black Leaders Face and How to Address Them \n\n\nConcrete Ways our Institutions Can Support Black Leadership \n\n\nHow to Sustain and Institutionalize these Efforts
URL:https://avp.org/event/black-leadership-obstacles-opportunities/
ATTACH;FMTTYPE=image/jpeg:https://avp.org/wp-content/uploads/2020/09/CourageousConversations_V5-FB-scaled.jpg
END:VEVENT
END:VCALENDAR