BEGIN:VCALENDAR
VERSION:2.0
PRODID:-//NYC Anti-Violence Project - ECPv5.6.0//NONSGML v1.0//EN
CALSCALE:GREGORIAN
METHOD:PUBLISH
X-WR-CALNAME:NYC Anti-Violence Project
X-ORIGINAL-URL:https://avp.org
X-WR-CALDESC:Events for NYC Anti-Violence Project
BEGIN:VTIMEZONE
TZID:America/Halifax
BEGIN:DAYLIGHT
TZOFFSETFROM:-0400
TZOFFSETTO:-0300
TZNAME:ADT
DTSTART:20200308T060000
END:DAYLIGHT
BEGIN:STANDARD
TZOFFSETFROM:-0300
TZOFFSETTO:-0400
TZNAME:AST
DTSTART:20201101T050000
END:STANDARD
END:VTIMEZONE
BEGIN:VEVENT
DTSTART;TZID=America/Halifax:20200123T180000
DTEND;TZID=America/Halifax:20200123T210000
DTSTAMP:20210527T124109
CREATED:20191219T205233Z
LAST-MODIFIED:20191219T205618Z
UID:4818-1579802400-1579813200@avp.org
SUMMARY:40th Kickoff Event
DESCRIPTION:The New York City Anti-Violence Project cordially invites you to \nProtest\, Policy\, & Prevention\nAVP was founded 40 years ago by community activists when the police and city officials refused to respond to a series of brutal attacks against our LGBTQ community. Survivors and their allies took to the streets to advocate for themselves. Hear from AVP’s founders who built the foundation of our work today\, and from anti-violence leaders on new strategies for hate violence prevention in our current sociopolitical climate. \nAs part of AVP’s 40th Anniversary\, we are launching Courageous Conversations: an Anti-Violence Discussion Series. AVP will be hosting a series of forums about the current and emerging realities\, practices\, and policies that are shaping anti-violence work now and into the future. We will bring together key experts\, survivors\, advocates\, and visionaries to help us create our vision of a world in which all LGBTQ and HIV-affected people are safe\, respected and live free from violence. Join us. \n\nHost Committee\n\n\nAndrew Austin & Michael Sonberg\nTom Duane\nMatt Foreman\nArthur Goodman\nTodd Grasinger\nBea Hanson\nMike Hofman\nBruce Pachter\n\n\n\n\n\n\nRich Palermo\nClarence Patton\nThomas Salatte\nMatthew Sturiale\nFarra Trompeter\nChris Tuttle\nDoug Wingo\nThomas Zuzelo
URL:https://avp.org/event/40th-kickoff-event/
LOCATION:Squarespace\, 8 Clarkson Street\, New York City\, NY\, 10014\, United States
ATTACH;FMTTYPE=image/jpeg:https://avp.org/wp-content/uploads/2019/12/40th-kick-off-Web-banner.jpg
END:VEVENT
END:VCALENDAR